BEGIN:VCALENDAR
VERSION:2.0
PRODID:-//86.109.64.8//NONSGML kigkonsult.se iCalcreator 2.20//
CALSCALE:GREGORIAN
METHOD:PUBLISH
X-WR-TIMEZONE:UTC
BEGIN:VEVENT
UID:event203@Shotokan Tigrisek SE Sopron
DTSTAMP:20260421T043221Z
CATEGORIES:Karate
DESCRIPTION:Sakura Kupa Szombathely\nCategory: Karate\nLink: https://www.sh
 otokansopron.hu/index.php?option=com_jem&view=event&id=203:sakura-kupa-szo
 mbathely\n
DTSTART;VALUE=DATE:20240224
DTEND;VALUE=DATE:20240225
SUMMARY:Sakura Kupa Szombathely
URL:https://www.shotokansopron.hu/index.php?option=com_jem&view=event&id=20
 3:sakura-kupa-szombathely
END:VEVENT
END:VCALENDAR