BEGIN:VCALENDAR
VERSION:2.0
PRODID:-//86.109.64.8//NONSGML kigkonsult.se iCalcreator 2.20//
CALSCALE:GREGORIAN
METHOD:PUBLISH
X-WR-TIMEZONE:UTC
BEGIN:VEVENT
UID:event250@Shotokan Tigrisek SE Sopron
DTSTAMP:20260422T093946Z
CATEGORIES:Karate
DESCRIPTION:Tanaka sensei Oberpullendorf\nCategory: Karate\nLink: https://w
 ww.shotokansopron.hu/index.php?option=com_jem&view=event&id=250:tanaka-sen
 sei-oberpullendorf\n
DTSTART:20241104T183000Z
DTEND:20241104T203000Z
SUMMARY:Tanaka sensei Oberpullendorf
URL:https://www.shotokansopron.hu/index.php?option=com_jem&view=event&id=25
 0:tanaka-sensei-oberpullendorf
END:VEVENT
END:VCALENDAR