BEGIN:VCALENDAR
VERSION:2.0
PRODID:-//86.109.64.8//NONSGML kigkonsult.se iCalcreator 2.20//
CALSCALE:GREGORIAN
METHOD:PUBLISH
X-WR-TIMEZONE:UTC
BEGIN:VEVENT
UID:event262@Shotokan Tigrisek SE Sopron
DTSTAMP:20260423T110617Z
CATEGORIES:Karate
DESCRIPTION:SKI Gasshuku\nCategory: Karate\nLink: https://www.shotokansopro
 n.hu/index.php?option=com_jem&view=event&id=262:ski-gasshuku\n
DTSTART;VALUE=DATE:20250627
DTEND;VALUE=DATE:20250630
SUMMARY:SKI Gasshuku
URL:https://www.shotokansopron.hu/index.php?option=com_jem&view=event&id=26
 2:ski-gasshuku
END:VEVENT
END:VCALENDAR